<?xml version="1.0" encoding="UTF-8"?>
<wcs:CoverageDescription  version="1.0.0" updateSequence="2012052200" 
xmlns:xs="http://www.w3.org/2001/XMLSchema" 
xmlns:gml="http://www.opengis.net/gml" 
xmlns:wcs="http://www.opengis.net/wcs" 
xmlns:xlink="http://www.w3.org/1999/xlink" 
xmlns:xsi="http://www.w3.org/2001/XMLSchema-instance" 
xsi:schemaLocation="http://www.opengis.net/wcs http://schemas.opengis.net/wcs/1.0.0/describeCoverage.xsd"><wcs:CoverageOffering>
 <wcs:description> 
  The retrieved total column CO parameter (in molecules/cm2), from the AIR IR and AMSU without HSB level 3 monthly gridded product.
  The values cover a temporal period of one month for the ascending (equatorial crossing South to North @1:30 PM local time). 
 </wcs:description>
 <wcs:name>AIRX3STM:CO_total_column_A</wcs:name>
 <wcs:label>AIRX3STM:CO_total_column_A</wcs:label>
 <wcs:lonLatEnvelope srsName="urn:ogc:def:crs:OGC:1.3:CRS84">
  <gml:pos dimension="2">-179.500000 -89.500000</gml:pos>
  <gml:pos dimension="2">179.500000 89.500000</gml:pos>
 </wcs:lonLatEnvelope>
 <wcs:domainSet>
  <wcs:spatialDomain>
   <gml:Envelope srsName="urn:ogc:def:crs:OGC:1.3:CRS84">
    <gml:pos dimension="2">-179.500000 -89.500000</gml:pos>
    <gml:pos dimension="2">179.500000 89.500000</gml:pos>
   </gml:Envelope>
   <gml:RectifiedGrid dimension="2" srsName="urn:ogc:def:crs:OGC:1.3:CRS84">
    <gml:limits>
	<gml:GridEnvelope>
	 <gml:low>0 0</gml:low>
	 <gml:high>359 179</gml:high>
	</gml:GridEnvelope>
	</gml:limits>
	 <gml:axisName>Longitude</gml:axisName>
	 <gml:axisName>Latitude</gml:axisName>
	 <gml:origin>
	  <gml:pos>-179.500000 89.500000</gml:pos>
	 </gml:origin>
	 <gml:offsetVector>1.000000 0</gml:offsetVector>
	  <gml:offsetVector>0 -1.000000</gml:offsetVector>
   </gml:RectifiedGrid>
   </wcs:spatialDomain>
   <wcs:temporalDomain>
    <wcs:timePeriod>
     <wcs:beginPosition>2002-09-01</wcs:beginPosition>
     <wcs:endPosition>2013-02-01</wcs:endPosition>
     <wcs:timeResolution>P1M</wcs:timeResolution>
    </wcs:timePeriod>
   </wcs:temporalDomain>
  </wcs:domainSet>
  <wcs:rangeSet>
   <wcs:RangeSet>
    <wcs:description> 
  The retrieved total column CO parameter (in molecules/cm2), from the AIR IR and AMSU without HSB level 3 monthly gridded product.
  The values cover a temporal period of one month for the ascending (equatorial crossing South to North @1:30 PM local time). 
 </wcs:description>
    <wcs:name>CO_total_column_A</wcs:name>
 <wcs:label>AIRX3STM:CO_total_column_A</wcs:label>
   </wcs:RangeSet>
  </wcs:rangeSet>
  <wcs:supportedCRSs>
   <wcs:requestResponseCRSs>urn:ogc:def:crs:OGC:1.3:CRS84</wcs:requestResponseCRSs>
   <wcs:requestResponseCRSs>urn:ogc:def:crs:OGC:2:84</wcs:requestResponseCRSs>
   <wcs:requestResponseCRSs>EPSG:4326</wcs:requestResponseCRSs>
   <wcs:requestResponseCRSs>CRS:84</wcs:requestResponseCRSs>
   <wcs:requestResponseCRSs>WGS:84</wcs:requestResponseCRSs>
   <wcs:nativeCRSs>urn:ogc:def:crs:OGC:1.3:CRS84</wcs:nativeCRSs>
  </wcs:supportedCRSs>
  <wcs:supportedFormats nativeFormat="HDF4-EOS">
   <wcs:formats>netCDF</wcs:formats>
   <wcs:formats>HDF4-EOS</wcs:formats>
   </wcs:supportedFormats>
   <wcs:supportedInterpolations default="nearest neighbor">
	 <wcs:interpolationMethod>nearest neighbor</wcs:interpolationMethod>
	 <wcs:interpolationMethod>bilinear</wcs:interpolationMethod>
	</wcs:supportedInterpolations>
  </wcs:CoverageOffering>
<wcs:CoverageOffering>
 <wcs:description>
  The retrieved total column CO parameter (in molecules/cm2), from the AIR IR and AMSU without HSB level 3 monthly gridded product.  The values cover a temporal period of one month for the descending (equatorial crossing North to South @1:30 AM local time).
 </wcs:description>
 <wcs:name>AIRX3STM:CO_total_column_D</wcs:name>
 <wcs:label>AIRX3STM:CO_total_column_D</wcs:label>
 <wcs:lonLatEnvelope srsName="urn:ogc:def:crs:OGC:1.3:CRS84">
  <gml:pos dimension="2">-179.500000 -89.500000</gml:pos>
  <gml:pos dimension="2">179.500000 89.500000</gml:pos>
 </wcs:lonLatEnvelope>
 <wcs:domainSet>
  <wcs:spatialDomain>
   <gml:Envelope srsName="urn:ogc:def:crs:OGC:1.3:CRS84">
    <gml:pos dimension="2">-179.500000 -89.500000</gml:pos>
    <gml:pos dimension="2">179.500000 89.500000</gml:pos>
   </gml:Envelope>
   <gml:RectifiedGrid dimension="2" srsName="urn:ogc:def:crs:OGC:1.3:CRS84">
    <gml:limits>
	<gml:GridEnvelope>
	 <gml:low>0 0</gml:low>
	 <gml:high>359 179</gml:high>
	</gml:GridEnvelope>
	</gml:limits>
	 <gml:axisName>Longitude</gml:axisName>
	 <gml:axisName>Latitude</gml:axisName>
	 <gml:origin>
	  <gml:pos>-179.500000 89.500000</gml:pos>
	 </gml:origin>
	 <gml:offsetVector>1.000000 0</gml:offsetVector>
	  <gml:offsetVector>0 -1.000000</gml:offsetVector>
   </gml:RectifiedGrid>
   </wcs:spatialDomain>
   <wcs:temporalDomain>
    <wcs:timePeriod>
     <wcs:beginPosition>2002-09-01</wcs:beginPosition>
     <wcs:endPosition>2013-02-01</wcs:endPosition>
     <wcs:timeResolution>P1M</wcs:timeResolution>
    </wcs:timePeriod>
   </wcs:temporalDomain>
  </wcs:domainSet>
  <wcs:rangeSet>
   <wcs:RangeSet>
    <wcs:description>
  The retrieved total column CO parameter (in molecules/cm2), from the AIR IR and AMSU without HSB level 3 monthly gridded product.  The values cover a temporal period of one month for the descending (equatorial crossing North to South @1:30 AM local time).
 </wcs:description>
    <wcs:name>CO_total_column_D</wcs:name>
 <wcs:label>AIRX3STM:CO_total_column_D</wcs:label>
   </wcs:RangeSet>
  </wcs:rangeSet>
  <wcs:supportedCRSs>
   <wcs:requestResponseCRSs>urn:ogc:def:crs:OGC:1.3:CRS84</wcs:requestResponseCRSs>
   <wcs:requestResponseCRSs>urn:ogc:def:crs:OGC:2:84</wcs:requestResponseCRSs>
   <wcs:requestResponseCRSs>EPSG:4326</wcs:requestResponseCRSs>
   <wcs:requestResponseCRSs>CRS:84</wcs:requestResponseCRSs>
   <wcs:requestResponseCRSs>WGS:84</wcs:requestResponseCRSs>
   <wcs:nativeCRSs>urn:ogc:def:crs:OGC:1.3:CRS84</wcs:nativeCRSs>
  </wcs:supportedCRSs>
  <wcs:supportedFormats nativeFormat="HDF4-EOS">
   <wcs:formats>netCDF</wcs:formats>
   <wcs:formats>HDF4-EOS</wcs:formats>
   </wcs:supportedFormats>
   <wcs:supportedInterpolations default="nearest neighbor">
	 <wcs:interpolationMethod>nearest neighbor</wcs:interpolationMethod>
	 <wcs:interpolationMethod>bilinear</wcs:interpolationMethod>
	</wcs:supportedInterpolations>
  </wcs:CoverageOffering>
</wcs:CoverageDescription>
