<?xml version="1.0" encoding="UTF-8"?>
<wcs:CoverageDescription  version="1.0.0" updateSequence="2012052200" 
xmlns:xs="http://www.w3.org/2001/XMLSchema" 
xmlns:gml="http://www.opengis.net/gml" 
xmlns:wcs="http://www.opengis.net/wcs" 
xmlns:xlink="http://www.w3.org/1999/xlink" 
xmlns:xsi="http://www.w3.org/2001/XMLSchema-instance" 
xsi:schemaLocation="http://www.opengis.net/wcs http://schemas.opengis.net/wcs/1.0.0/describeCoverage.xsd"><wcs:CoverageOffering>
 <wcs:description>
 Best Total Ozone Solution.  For further information, see http://disc.gsfc.nasa.gov/Aura/OMI/omto3e_v003.shtml</wcs:description>
 <wcs:name>OMTO3e:ColumnAmountO3</wcs:name>
 <wcs:label>Best Total Ozone Solution</wcs:label>
 <wcs:lonLatEnvelope srsName="urn:ogc:def:crs:OGC:1.3:CRS84">
  <gml:pos dimension="2">-179.875000 -89.875000</gml:pos>
  <gml:pos dimension="2">179.875000 89.875000</gml:pos>
 </wcs:lonLatEnvelope>
 <wcs:domainSet>
  <wcs:spatialDomain>
   <gml:Envelope srsName="urn:ogc:def:crs:OGC:1.3:CRS84">
    <gml:pos dimension="2">-179.875000 -89.875000</gml:pos>
    <gml:pos dimension="2">179.875000 89.875000</gml:pos>
   </gml:Envelope>
   <gml:RectifiedGrid dimension="2" srsName="urn:ogc:def:crs:OGC:1.3:CRS84">
    <gml:limits>
	<gml:GridEnvelope>
	 <gml:low>0 0</gml:low>
	 <gml:high>1439 719</gml:high>
	</gml:GridEnvelope>
	</gml:limits>
	 <gml:axisName>Longitude</gml:axisName>
	 <gml:axisName>Latitude</gml:axisName>
	 <gml:origin>
	  <gml:pos>-179.875000 89.875000</gml:pos>
	 </gml:origin>
	 <gml:offsetVector>0.250000 0</gml:offsetVector>
	  <gml:offsetVector>0 -0.250000</gml:offsetVector>
   </gml:RectifiedGrid>
   </wcs:spatialDomain>
   <wcs:temporalDomain>
    <wcs:timePeriod>
     <wcs:beginPosition>2004-10-01</wcs:beginPosition>
     <wcs:endPosition>2013-05-22</wcs:endPosition>
     <wcs:timeResolution>P1D</wcs:timeResolution>
    </wcs:timePeriod>
   </wcs:temporalDomain>
  </wcs:domainSet>
  <wcs:rangeSet>
   <wcs:RangeSet>
    <wcs:description>
 Best Total Ozone Solution.  For further information, see http://disc.gsfc.nasa.gov/Aura/OMI/omto3e_v003.shtml</wcs:description>
    <wcs:name>ColumnAmountO3</wcs:name>
 <wcs:label>Best Total Ozone Solution</wcs:label>
   </wcs:RangeSet>
  </wcs:rangeSet>
  <wcs:supportedCRSs>
   <wcs:requestResponseCRSs>urn:ogc:def:crs:OGC:1.3:CRS84</wcs:requestResponseCRSs>
   <wcs:requestResponseCRSs>urn:ogc:def:crs:OGC:2:84</wcs:requestResponseCRSs>
   <wcs:requestResponseCRSs>EPSG:4326</wcs:requestResponseCRSs>
   <wcs:requestResponseCRSs>CRS:84</wcs:requestResponseCRSs>
   <wcs:requestResponseCRSs>WGS:84</wcs:requestResponseCRSs>
   <wcs:nativeCRSs>urn:ogc:def:crs:OGC:1.3:CRS84</wcs:nativeCRSs>
  </wcs:supportedCRSs>
  <wcs:supportedFormats nativeFormat="HDF5-EOS">
   <wcs:formats>netCDF</wcs:formats>
   <wcs:formats>HDF4-EOS</wcs:formats>
   </wcs:supportedFormats>
   <wcs:supportedInterpolations default="nearest neighbor">
	 <wcs:interpolationMethod>nearest neighbor</wcs:interpolationMethod>
	 <wcs:interpolationMethod>bilinear</wcs:interpolationMethod>
	</wcs:supportedInterpolations>
  </wcs:CoverageOffering>
<wcs:CoverageOffering>
 <wcs:description>
 Effective Radiative Cloud Fraction.  For further information, see http://disc.gsfc.nasa.gov/Aura/OMI/omto3e_v003.shtml</wcs:description>
 <wcs:name>OMTO3e:RadiativeCloudFraction</wcs:name>
 <wcs:label>Radiative Cloud Fraction = fc*Ic331/Im331</wcs:label>
 <wcs:lonLatEnvelope srsName="urn:ogc:def:crs:OGC:1.3:CRS84">
  <gml:pos dimension="2">-179.875000 -89.875000</gml:pos>
  <gml:pos dimension="2">179.875000 89.875000</gml:pos>
 </wcs:lonLatEnvelope>
 <wcs:domainSet>
  <wcs:spatialDomain>
   <gml:Envelope srsName="urn:ogc:def:crs:OGC:1.3:CRS84">
    <gml:pos dimension="2">-179.875000 -89.875000</gml:pos>
    <gml:pos dimension="2">179.875000 89.875000</gml:pos>
   </gml:Envelope>
   <gml:RectifiedGrid dimension="2" srsName="urn:ogc:def:crs:OGC:1.3:CRS84">
    <gml:limits>
	<gml:GridEnvelope>
	 <gml:low>0 0</gml:low>
	 <gml:high>1439 719</gml:high>
	</gml:GridEnvelope>
	</gml:limits>
	 <gml:axisName>Longitude</gml:axisName>
	 <gml:axisName>Latitude</gml:axisName>
	 <gml:origin>
	  <gml:pos>-179.875000 89.875000</gml:pos>
	 </gml:origin>
	 <gml:offsetVector>0.250000 0</gml:offsetVector>
	  <gml:offsetVector>0 -0.250000</gml:offsetVector>
   </gml:RectifiedGrid>
   </wcs:spatialDomain>
   <wcs:temporalDomain>
    <wcs:timePeriod>
     <wcs:beginPosition>2004-10-01</wcs:beginPosition>
     <wcs:endPosition>2013-05-22</wcs:endPosition>
     <wcs:timeResolution>P1D</wcs:timeResolution>
    </wcs:timePeriod>
   </wcs:temporalDomain>
  </wcs:domainSet>
  <wcs:rangeSet>
   <wcs:RangeSet>
    <wcs:description>
 Effective Radiative Cloud Fraction.  For further information, see http://disc.gsfc.nasa.gov/Aura/OMI/omto3e_v003.shtml</wcs:description>
    <wcs:name>RadiativeCloudFraction</wcs:name>
 <wcs:label>Radiative Cloud Fraction = fc*Ic331/Im331</wcs:label>
   </wcs:RangeSet>
  </wcs:rangeSet>
  <wcs:supportedCRSs>
   <wcs:requestResponseCRSs>urn:ogc:def:crs:OGC:1.3:CRS84</wcs:requestResponseCRSs>
   <wcs:requestResponseCRSs>urn:ogc:def:crs:OGC:2:84</wcs:requestResponseCRSs>
   <wcs:requestResponseCRSs>EPSG:4326</wcs:requestResponseCRSs>
   <wcs:requestResponseCRSs>CRS:84</wcs:requestResponseCRSs>
   <wcs:requestResponseCRSs>WGS:84</wcs:requestResponseCRSs>
   <wcs:nativeCRSs>urn:ogc:def:crs:OGC:1.3:CRS84</wcs:nativeCRSs>
  </wcs:supportedCRSs>
  <wcs:supportedFormats nativeFormat="HDF5-EOS">
   <wcs:formats>netCDF</wcs:formats>
   <wcs:formats>HDF4-EOS</wcs:formats>
   </wcs:supportedFormats>
   <wcs:supportedInterpolations default="nearest neighbor">
	 <wcs:interpolationMethod>nearest neighbor</wcs:interpolationMethod>
	 <wcs:interpolationMethod>bilinear</wcs:interpolationMethod>
	</wcs:supportedInterpolations>
  </wcs:CoverageOffering>
</wcs:CoverageDescription>
